BEGIN:VCALENDAR
TZID:Europe/Madrid
BEGIN:VEVENT
CLASS:PUBLIC
CREATED:20260420T145532
DESCRIPTION:<span class="cuando">¿Cuándo?:</span>\n<p class="p1"><strong>Descripción:</strong> International French Travel Market - París, Francia</p>\nAproximadamente un 40% de asistentes son agentes de viajes franceses, el 20% jefes de producto, el 15% agentes especializados en eventos, el 10% encargados de viajes en empresas, el 5% organizadores de grupos y el resto autocaristas.\n\n<section></section>
DTEND:20200925T000000Z
DTSTAMP:20260420T145532
DTSTART:20200922T000000
LAST-MODIFIED:20091109T101015
LOCATION:París, Francia, , , , 
SUMMARY;LANGUAGE=en-us:TOP RESA
BEGIN:VALARM
TRIGGER:-PT1440M
ACTION:DISPLAY
DESCRIPTION:Reminder
END:VALARM
END:VEVENT
END:VCALENDAR
