BEGIN:VCALENDAR
TZID:Europe/Madrid
BEGIN:VEVENT
CLASS:PUBLIC
CREATED:20260421T135947
DESCRIPTION:<span class="cuando">¿Cuándo?:</span>\n<p class="p1"><strong>Descripción:</strong> Vitrina Turística - Bogotá, Colombia</p>\nLa Asociación Colombiana de Agencias de Viajes y Turismo – ANATO, es el organizador de la Vitrina Turística, el evento que desde 1982 se ha ido consolidando como el evento más importante del turismo en Colombia.\n<!--more-->Es el punto de encuentro donde todos los sectores del turismo como las aerolíneas, hoteleros, tour operadores, oficinas de representaciones turísticas y los Agentes de Viajes de Colombia conocen, promueven y venden sus productos y servicios turísticos. De igual manera, la Vitrina Turística fomenta la dinamización del turismo receptivo y la generación de corrientes emisivas hacia los países participantes.\n<div id="gtx-trans" style="position: absolute; left: -10px; top: 80px;">\n<div class="gtx-trans-icon"></div>\n</div>
DTEND:20200228T000000Z
DTSTAMP:20260421T135947
DTSTART:20200226T000000
LAST-MODIFIED:20091109T101015
LOCATION:Bogotá, Colombia, , , , 
SUMMARY;LANGUAGE=en-us:ANATO
BEGIN:VALARM
TRIGGER:-PT1440M
ACTION:DISPLAY
DESCRIPTION:Reminder
END:VALARM
END:VEVENT
END:VCALENDAR
